BEGIN:VCALENDAR
VERSION:2.0
PRODID:-//ChamberMaster//Event Calendar 2.0//EN
METHOD:PUBLISH
X-PUBLISHED-TTL:P3D
REFRESH-INTERVAL:P3D
CALSCALE:GREGORIAN
BEGIN:VEVENT
DTSTART:20220801T230000Z
DTEND:20220802T000000Z
X-MICROSOFT-CDO-ALLDAYEVENT:FALSE
SUMMARY:Appearance Committee at Town Hall at 7pm
DESCRIPTION:
X-ALT-DESC;FMTTYPE=text/html:
LOCATION:
UID:e.1510.7755
SEQUENCE:3
DTSTAMP:20260422T012019Z
URL:https://business.wendellchamber.com/events/details/appearance-committee-at-town-hall-at-7pm-08-01-2022-7755
END:VEVENT

END:VCALENDAR
