BEGIN:VCALENDAR
VERSION:2.0
PRODID:-//ChamberMaster//Event Calendar 2.0//EN
METHOD:PUBLISH
X-PUBLISHED-TTL:P3D
REFRESH-INTERVAL:P3D
CALSCALE:GREGORIAN
BEGIN:VEVENT
DTSTART:20230304T180000Z
DTEND:20230304T220000Z
X-MICROSOFT-CDO-ALLDAYEVENT:FALSE
SUMMARY:Celebrate the Town’s Birthday at the Museum
DESCRIPTION:Celebrate the Town's Birthday at the Museum\n\nSaturday\, March 4\n\n1 p.m.   5 p.m.\n\n \n\nJoin Mayor Ginna Gray and celebrate Wendell's 120th birthday with a cupcake while enjoying a look at the town's history.  The Wendell Museum is located at 122 W. Second St.\, Wendell.  Wendell was incorporated by the N.C. General Assembly on March 6\, 1903.
X-ALT-DESC;FMTTYPE=text/html:<div><span style="font-size:14pt"><strong>Celebrate the Town&rsquo\;s Birthday at the Museum</strong></span></div>\n\n<p><span style="font-size:14pt"><strong>Saturday\, March 4</strong></span></p>\n\n<p><span style="font-size:14pt"><strong>1 p.m. &ndash\; 5 p.m.</strong></span></p>\n\n<p><span style="font-size:14pt">&nbsp\;</span></p>\n\n<div><span style="font-size:14pt">Join Mayor Ginna Gray and celebrate Wendell&rsquo\;s 120th&nbsp\;birthday with a cupcake while enjoying a look at the town&rsquo\;s history. &nbsp\;The Wendell Museum is located at 122 W. Second St.\, Wendell. &nbsp\;Wendell was incorporated by the N.C. General Assembly on March 6\, 1903.</span></div>\n
LOCATION:The Wendell Museum is located at 122 W. Second St.\, Wendell
UID:e.1510.11637
SEQUENCE:3
DTSTAMP:20260420T124526Z
URL:https://business.wendellchamber.com/events/details/celebrate-the-town-s-birthday-at-the-museum-11637
END:VEVENT

END:VCALENDAR
