BEGIN:VCALENDAR
VERSION:2.0
PRODID:-//ChamberMaster//Event Calendar 2.0//EN
METHOD:PUBLISH
X-PUBLISHED-TTL:P3D
REFRESH-INTERVAL:P3D
CALSCALE:GREGORIAN
BEGIN:VEVENT
DTSTART:20220111T170000Z
DTEND:20220111T180000Z
X-MICROSOFT-CDO-ALLDAYEVENT:FALSE
SUMMARY:Knowledge at Noon: Holistic Health
DESCRIPTION:Come and discover how you can take care of yourself mentally and physically during the pandemic. What are the benefits of holistic health? Why is it so important now more than ever? What can you do during quarantine to maintain good health? Our panel of Local Health and Wellness experts will answer these questions as well as let you know how they are continuing to serve the community safely. \n\n\n\nThis will be an interactive panel discussion with time for Q&A at the end!\n\nMeet us at Grillbillies\, 36 North Pine Street\, Wendell from 12-1 PM\, Tuesday January 11. You are welcome to bring your lunch!\n\n\n\nThis event is FREE but please register!
X-ALT-DESC;FMTTYPE=text/html:Come and discover how you can take care of yourself mentally and physically during the pandemic. What are the benefits of holistic health? Why is it so important now more than ever? What can you do during quarantine to maintain good health? Our panel of Local Health and Wellness experts will answer these questions as well as let you know how they are continuing to serve the community safely.&nbsp\;<br />\n<br />\nThis will be an interactive panel discussion with time for Q&amp\;A at the end!<br />\nMeet us at Grillbillies\, 36 North Pine Street\, Wendell from 12-1 PM\, Tuesday January 11. You are welcome to bring your lunch!<br />\n<br />\nThis event is FREE but please register!
LOCATION:Grillbillies\, 36 North Pine Street\, Wendell
UID:e.1510.11180
SEQUENCE:3
DTSTAMP:20260423T212508Z
URL:https://business.wendellchamber.com/events/details/knowledge-at-noon-holistic-health-11180
END:VEVENT

END:VCALENDAR
