BEGIN:VCALENDAR
VERSION:2.0
PRODID:-//ChamberMaster//Event Calendar 2.0//EN
METHOD:PUBLISH
X-PUBLISHED-TTL:P3D
REFRESH-INTERVAL:P3D
CALSCALE:GREGORIAN
BEGIN:VEVENT
DTSTART:20250805T160000Z
DTEND:20250805T170000Z
X-MICROSOFT-CDO-ALLDAYEVENT:FALSE
SUMMARY:Knowledge at Noon - Sharon Galluzzo -YOU DON’T NEED PERMISSION: STEP UP\, STEP OUT\, AND OWN YOUR SUCCESS
DESCRIPTION:Discover how to build a business that's profitable\, joyful\, and built to last. Are you waiting for the "right time" or someone to tell you you're ready? \n\n\n\nJoin Amazon Best-Selling Author and Profit Growth Strategist Sharon Galluzzo for a dynamic session on uncovering hidden ways professionals and business owners hold themselves back - and how to break free. Learn practical strategies to build confidence\, take decisive action\, and grow your success without hesitation. Success isn't granted- it's claimed!\n\n\n\nWith over 21 years of experience helping entrepreneurs and franchise owners overcome overwhelm and reclaim their passion\, Sharon will share real-world strategies to boost client loyalty\, increase profits\, and reignite your business purpose.\n\nAttend via Zoom (link will be sent prior to the event) or watch with a group at the office.
X-ALT-DESC;FMTTYPE=text/html:<p data-end="508" data-start="243"><strong data-end="325" data-start="243">Discover how to build a business that&rsquo\;s profitable\, joyful\, and built to last. Are you waiting for the &quot\;right time&quot\; or someone to tell you you&#39\;re ready?&nbsp\;</strong><br />\n<br data-end="328" data-start="325" />\nJoin <strong data-end="408" data-start="333">Amazon Best-Selling Author and Profit Growth Strategist Sharon Galluzzo</strong> for a dynamic session on uncovering hidden ways professionals and business owners hold themselves back - and how to break free. Learn practical strategies to build&nbsp\;confidence\, take decisive action\, and grow your success without hesitation. Success isn&#39\;t granted- it&#39\;s claimed!<br />\n<br />\nWith over 21 years of experience helping entrepreneurs and franchise owners overcome overwhelm and reclaim their passion\,&nbsp\;Sharon will share real-world strategies to boost client loyalty\, increase profits\, and reignite your business purpose.</p>\n\n<p data-end="834" data-start="754">Attend via Zoom (link will be sent prior to&nbsp\;the event) or watch with a group at the office.</p>\n
LOCATION:Zoom or Wendell Chamber of Commerce You may come into the office and watch with a group or connect via Zoom.
UID:e.1510.13171
SEQUENCE:3
DTSTAMP:20260422T000621Z
URL:https://business.wendellchamber.com/events/details/knowledge-at-noon-sharon-galluzzo-you-don-t-need-permission-step-up-step-out-and-own-your-success-13171
END:VEVENT

END:VCALENDAR
