BEGIN:VCALENDAR
VERSION:2.0
PRODID:-//ChamberMaster//Event Calendar 2.0//EN
METHOD:PUBLISH
X-PUBLISHED-TTL:P3D
REFRESH-INTERVAL:P3D
CALSCALE:GREGORIAN
BEGIN:VEVENT
DTSTART:20250524T130000Z
DTEND:20250524T180000Z
X-MICROSOFT-CDO-ALLDAYEVENT:FALSE
SUMMARY:Vendor Fair at Treelight Square
DESCRIPTION:Join us for Treelight Square's May Market! Grab a cup of coffee from our event co-host\, Sonder Coffee before strolling through the Square and browsing what some of the amazing businesses in NC have to offer!\n\n\n\n-Shop from 40+ local vendors\n\n-Enjoy Live Music from a local musician\n\n-Free Admission\n\n-Bring the pups and the kiddos!\n\n\n\nMarket runs from 9am - 2pm and is free to attend
X-ALT-DESC;FMTTYPE=text/html:Join us for Treelight Square&#39\;s May Market! Grab a cup of coffee from our event co-host\, Sonder Coffee before strolling through the Square and browsing what some of the amazing businesses in NC have to offer!<br />\n<br />\n-Shop from 40+ local vendors<br />\n-Enjoy Live Music from a local musician<br />\n-Free Admission<br />\n-Bring the pups and the kiddos!<br />\n<br />\nMarket runs from 9am - 2pm and is free to attend
LOCATION:2240 Big Falls Lane\, Wendell\, North Carolina 27591\, United States
UID:e.1510.13410
SEQUENCE:3
DTSTAMP:20260419T164813Z
URL:https://business.wendellchamber.com/events/details/vendor-fair-at-treelight-square-05-24-2025-13410
END:VEVENT

END:VCALENDAR
